BEGIN:VCALENDAR
VERSION:2.0
PRODID:-//The Good News Center - ECPv6.15.20//NONSGML v1.0//EN
CALSCALE:GREGORIAN
METHOD:PUBLISH
X-WR-CALNAME:The Good News Center
X-ORIGINAL-URL:https://thegoodnewscenter.org
X-WR-CALDESC:Events for The Good News Center
REFRESH-INTERVAL;VALUE=DURATION:PT1H
X-Robots-Tag:noindex
X-PUBLISHED-TTL:PT1H
BEGIN:VTIMEZONE
TZID:America/New_York
BEGIN:DAYLIGHT
TZOFFSETFROM:-0500
TZOFFSETTO:-0400
TZNAME:EDT
DTSTART:20250309T070000
END:DAYLIGHT
BEGIN:STANDARD
TZOFFSETFROM:-0400
TZOFFSETTO:-0500
TZNAME:EST
DTSTART:20251102T060000
END:STANDARD
BEGIN:DAYLIGHT
TZOFFSETFROM:-0500
TZOFFSETTO:-0400
TZNAME:EDT
DTSTART:20260308T070000
END:DAYLIGHT
BEGIN:STANDARD
TZOFFSETFROM:-0400
TZOFFSETTO:-0500
TZNAME:EST
DTSTART:20261101T060000
END:STANDARD
BEGIN:DAYLIGHT
TZOFFSETFROM:-0500
TZOFFSETTO:-0400
TZNAME:EDT
DTSTART:20270314T070000
END:DAYLIGHT
BEGIN:STANDARD
TZOFFSETFROM:-0400
TZOFFSETTO:-0500
TZNAME:EST
DTSTART:20271107T060000
END:STANDARD
END:VTIMEZONE
BEGIN:VEVENT
DTSTART;VALUE=DATE:20260928
DTEND;VALUE=DATE:20260930
DTSTAMP:20260421T223324
CREATED:20251212T001108Z
LAST-MODIFIED:20251212T001108Z
UID:10001129-1790553600-1790726399@thegoodnewscenter.org
SUMMARY:Sight & Sound Theatres present Joshua
DESCRIPTION:[vc_row][vc_column][vc_column_text css=””]From the banks of the Jordan River to the towering walls of Jericho\, Joshua is miraculous adventure for the whole family. Journey along side the people of Israel as they navigate their newfound freedom in an unforgiving wilderness. When Joshua is called to replace Moses as their faithful leader\, tensions mount in the midst of dwindling supplies and approaching armies. With one last fortified city standing between the Israelites and the Promised Land\, unexpected help emerges from behind enemy lines and Joshua’s trust in God’s plan is put to the ultimate test. \nCome along September 28th through the 29th on an unforgettable journey of faith as Joshua comes to life in a powerful new stage production at Sight & Sound Theatres. \nComplete package includes transportation\, accommodations\, one (1) breakfast\, two (2) lunches and one (1) dinner\, admission to the show and  to the National Center for Padre Pio. \nFor more information and pricing please call us at 315-735-6210. Reservations open March 9\, 2026. \n[/vc_column_text][/vc_column][/vc_row][vc_row][vc_column][/vc_column][/vc_row]
URL:https://thegoodnewscenter.org/event/sight-sound-theatres-present-joshua/
CATEGORIES:Events,Relationship Programs,Spiritual Enrichment,Spiritual Programs,Support Groups
END:VEVENT
END:VCALENDAR