BEGIN:VCALENDAR
VERSION:2.0
PRODID:-//The Good News Center - ECPv6.15.20//NONSGML v1.0//EN
CALSCALE:GREGORIAN
METHOD:PUBLISH
X-WR-CALNAME:The Good News Center
X-ORIGINAL-URL:https://thegoodnewscenter.org
X-WR-CALDESC:Events for The Good News Center
REFRESH-INTERVAL;VALUE=DURATION:PT1H
X-Robots-Tag:noindex
X-PUBLISHED-TTL:PT1H
BEGIN:VTIMEZONE
TZID:America/New_York
BEGIN:DAYLIGHT
TZOFFSETFROM:-0500
TZOFFSETTO:-0400
TZNAME:EDT
DTSTART:20240310T070000
END:DAYLIGHT
BEGIN:STANDARD
TZOFFSETFROM:-0400
TZOFFSETTO:-0500
TZNAME:EST
DTSTART:20241103T060000
END:STANDARD
BEGIN:DAYLIGHT
TZOFFSETFROM:-0500
TZOFFSETTO:-0400
TZNAME:EDT
DTSTART:20250309T070000
END:DAYLIGHT
BEGIN:STANDARD
TZOFFSETFROM:-0400
TZOFFSETTO:-0500
TZNAME:EST
DTSTART:20251102T060000
END:STANDARD
BEGIN:DAYLIGHT
TZOFFSETFROM:-0500
TZOFFSETTO:-0400
TZNAME:EDT
DTSTART:20260308T070000
END:DAYLIGHT
BEGIN:STANDARD
TZOFFSETFROM:-0400
TZOFFSETTO:-0500
TZNAME:EST
DTSTART:20261101T060000
END:STANDARD
BEGIN:DAYLIGHT
TZOFFSETFROM:-0500
TZOFFSETTO:-0400
TZNAME:EDT
DTSTART:20270314T070000
END:DAYLIGHT
BEGIN:STANDARD
TZOFFSETFROM:-0400
TZOFFSETTO:-0500
TZNAME:EST
DTSTART:20271107T060000
END:STANDARD
END:VTIMEZONE
BEGIN:VEVENT
DTSTART;TZID=America/New_York:20260226T110000
DTEND;TZID=America/New_York:20260226T130000
DTSTAMP:20260421T184112
CREATED:20251211T214917Z
LAST-MODIFIED:20260129T021303Z
UID:10001071-1772103600-1772110800@thegoodnewscenter.org
SUMMARY:"The Journey from Islam to Jesus: A Path Less Traveled?" Good News Luncheon
DESCRIPTION:[vc_row][vc_column][vc_column_text css=””]A generation ago\, it was very uncommon to hear of even one Muslim becoming a disciple of Jesus. However\, in our times\, Muslims throughout the world are becoming Christians. Please join us as we welcome Rev. Dr. Fred Farrokh to our Good News Luncheon as he shares his personal journey to faith in Christ\, as well as describing this growing global movement of Muslims to Christ. \nRev. Dr. Fred Farrokh is a Muslim-background Christian who serves as an international trainer with Global Initiative: Reaching Muslim Peoples. Fred is an ordained missionary with Elim Fellowship. Before joining Global Initiative\, Fred served as executive director of Jesus for Muslims Network in Metro New York\, and special projects officer with SAT-7 in Cyprus. \n$18 per person\, $15 for 1992 Society Members. 300 Club Members FREE. \nReservations are required by February 19th. \n[/vc_column_text]\n	Notice: JavaScript is required for this content.\n\n\n    \n\n\n        \n        \n        \n\n\n\n\n\n\n\n\n\n\n\n\n\n\n    \n    \n    \n    \n    \n    \n        \n            \n            \n        \n        \n            \n            \n        \n    \n    \n    \n        Billing Address\n        \n            \n        \n        \n            \n        \n        \n            \n                \n                    \n                    \n                \n                \n            \n            \n                \n                    \n                    \n                \n            \n        \n        \n            \n                \n                    \n                \n            \n            \n                \n                    \n                \n            \n        \n    \n    \n    Pay Now    \n        \n\n        \n\n        [/vc_column][/vc_row][vc_row][vc_column][/vc_column][/vc_row]
URL:https://thegoodnewscenter.org/event/the-journey-from-islam-to-jesus-a-path-less-traveled-good-news-luncheon/
CATEGORIES:Events,Luncheon Talks,Relationship Programs,Spiritual Enrichment,Spiritual Programs,Support Groups
ATTACH;FMTTYPE=image/jpeg:https://thegoodnewscenter.org/wp-content/uploads/2025/12/Islam-to-Jesus.jpg
END:VEVENT
BEGIN:VEVENT
DTSTART;TZID=America/New_York:20251203T180000
DTEND;TZID=America/New_York:20251203T200000
DTSTAMP:20260421T184112
CREATED:20251028T221847Z
LAST-MODIFIED:20251028T221847Z
UID:10000876-1764784800-1764792000@thegoodnewscenter.org
SUMMARY:The Nativity of Jesus Through Art
DESCRIPTION:[vc_row][vc_column][vc_column_text css=””]Do you see what I see? \nThis Christmas season join The Good News Center for a powerful journey through works of art as we follow the nativity of Jesus from His conception to His birth. We will explore images of art and reflect on what they convey to us. Immerse yourself in the history of Christ’s birth in a whole new way. \nGuest commentator will be Frank Cittadino\, M.F.A.\, Adjunct Professor of Fine Arts at Utica University. \nEvening includes dinner which begins at 6 pm with the program to follow at 6:30 pm.  The cost is $25 per person and reservations are required by November 21st by calling 315-735-6210.[/vc_column_text][/vc_column][/vc_row][vc_row][vc_column]\n	Notice: JavaScript is required for this content.\n\n\n    \n\n\n        \n        \n        \n\n\n\n\n\n\n\n\n\n\n\n\n\n\n    \n    \n    \n    \n    \n    \n        \n            \n            \n        \n        \n            \n            \n        \n    \n    \n    \n        Billing Address\n        \n            \n        \n        \n            \n        \n        \n            \n                \n                    \n                    \n                \n                \n            \n            \n                \n                    \n                    \n                \n            \n        \n        \n            \n                \n                    \n                \n            \n            \n                \n                    \n                \n            \n        \n    \n    \n    Pay Now    \n        \n\n        \n\n        [/vc_column][/vc_row]
URL:https://thegoodnewscenter.org/event/the-nativity-of-jesus-through-art/
CATEGORIES:Events,Luncheon Talks,Relationship Programs,Spiritual Programs,Support Groups
ATTACH;FMTTYPE=image/jpeg:https://thegoodnewscenter.org/wp-content/uploads/2025/10/Nativity-2-scaled.jpg
END:VEVENT
BEGIN:VEVENT
DTSTART;TZID=America/New_York:20251106T110000
DTEND;TZID=America/New_York:20251106T130000
DTSTAMP:20260421T184112
CREATED:20250721T152546Z
LAST-MODIFIED:20251017T233426Z
UID:10000266-1762426800-1762434000@thegoodnewscenter.org
SUMMARY:Good News Luncheon "Made for This Moment"
DESCRIPTION:[vc_row][vc_column][vc_column_text css=””] \nIn a world full of uncertainty\, there is one truth that remains: you are here for a specific time and purpose. Join us for an action-packed program designed to awaken your hope\, ignite your creative energy\, and help you see life through a new perspective. It’s not about waiting for a miracle — it’s about realizing you already are part of one. When you believe it\, you will see it. \nThe world is ready. Are you? \nMeg Castellini is the Director of the Spiritual Renewal Center in Syracuse and offers ministry in her parish\, St. Augustine’s. Meg has been leading retreats throughout the Central New York area for the past 19 years. She feels deeply blessed to be the mother of three adult children and the grandmother of three. \n$18 per person\, $15 for 1992 Society Members.\n300 Club Members FREE. \nReservations are required by October 30th. \nPlease call The Good News Foundation at 315-735-6210\,\nMonday–Friday 8:30 AM–4:30 PM. \n[/vc_column_text][/vc_column][/vc_row][vc_row][vc_column]\n	Notice: JavaScript is required for this content.\n\n\n    \n\n\n        \n        \n        \n\n\n\n\n\n\n\n\n\n\n\n\n\n\n    \n    \n    \n    \n    \n    \n        \n            \n            \n        \n        \n            \n            \n        \n    \n    \n    \n        Billing Address\n        \n            \n        \n        \n            \n        \n        \n            \n                \n                    \n                    \n                \n                \n            \n            \n                \n                    \n                    \n                \n            \n        \n        \n            \n                \n                    \n                \n            \n            \n                \n                    \n                \n            \n        \n    \n    \n    Pay Now    \n        \n\n        \n\n        [/vc_column][/vc_row]
URL:https://thegoodnewscenter.org/event/good-news-luncheon-made-for-this-moment/
CATEGORIES:Events,Luncheon Talks,Relationship Programs,Spiritual Programs,Support Groups
ATTACH;FMTTYPE=image/jpeg:https://thegoodnewscenter.org/wp-content/uploads/2025/09/Good-News-Photo-Headers_0003_luncheon-1.jpg
END:VEVENT
BEGIN:VEVENT
DTSTART;TZID=America/New_York:20250911T110000
DTEND;TZID=America/New_York:20250911T130000
DTSTAMP:20260421T184112
CREATED:20250313T192554Z
LAST-MODIFIED:20250929T181851Z
UID:10000255-1757588400-1757595600@thegoodnewscenter.org
SUMMARY:Good News Luncheon Series with Rev. Rafal Dadello
DESCRIPTION:Reservation Type\n\n\n\n1992 Society Member $15.00 USD \nGuest $18.00 USD
URL:https://thegoodnewscenter.org/event/good-news-luncheon-series-with-rev-rafal-dadello/
CATEGORIES:Events,Luncheon Talks,PAL,Relationship Programs,Spiritual Programs,Support Groups
END:VEVENT
END:VCALENDAR