BEGIN:VCALENDAR
VERSION:2.0
PRODID:-//The Good News Center - ECPv6.15.20//NONSGML v1.0//EN
CALSCALE:GREGORIAN
METHOD:PUBLISH
X-WR-CALNAME:The Good News Center
X-ORIGINAL-URL:https://thegoodnewscenter.org
X-WR-CALDESC:Events for The Good News Center
REFRESH-INTERVAL;VALUE=DURATION:PT1H
X-Robots-Tag:noindex
X-PUBLISHED-TTL:PT1H
BEGIN:VTIMEZONE
TZID:America/New_York
BEGIN:DAYLIGHT
TZOFFSETFROM:-0500
TZOFFSETTO:-0400
TZNAME:EDT
DTSTART:20220313T070000
END:DAYLIGHT
BEGIN:STANDARD
TZOFFSETFROM:-0400
TZOFFSETTO:-0500
TZNAME:EST
DTSTART:20221106T060000
END:STANDARD
BEGIN:DAYLIGHT
TZOFFSETFROM:-0500
TZOFFSETTO:-0400
TZNAME:EDT
DTSTART:20230312T070000
END:DAYLIGHT
BEGIN:STANDARD
TZOFFSETFROM:-0400
TZOFFSETTO:-0500
TZNAME:EST
DTSTART:20231105T060000
END:STANDARD
BEGIN:DAYLIGHT
TZOFFSETFROM:-0500
TZOFFSETTO:-0400
TZNAME:EDT
DTSTART:20240310T070000
END:DAYLIGHT
BEGIN:STANDARD
TZOFFSETFROM:-0400
TZOFFSETTO:-0500
TZNAME:EST
DTSTART:20241103T060000
END:STANDARD
BEGIN:DAYLIGHT
TZOFFSETFROM:-0500
TZOFFSETTO:-0400
TZNAME:EDT
DTSTART:20250309T070000
END:DAYLIGHT
BEGIN:STANDARD
TZOFFSETFROM:-0400
TZOFFSETTO:-0500
TZNAME:EST
DTSTART:20251102T060000
END:STANDARD
BEGIN:DAYLIGHT
TZOFFSETFROM:-0500
TZOFFSETTO:-0400
TZNAME:EDT
DTSTART:20260308T070000
END:DAYLIGHT
BEGIN:STANDARD
TZOFFSETFROM:-0400
TZOFFSETTO:-0500
TZNAME:EST
DTSTART:20261101T060000
END:STANDARD
END:VTIMEZONE
BEGIN:VEVENT
DTSTART;TZID=America/New_York:20250528T100000
DTEND;TZID=America/New_York:20250528T113000
DTSTAMP:20260422T101133
CREATED:20250228T194716Z
LAST-MODIFIED:20250929T181851Z
UID:10000252-1748426400-1748431800@thegoodnewscenter.org
SUMMARY:33 Days to Eucharistic Glory
DESCRIPTION:Choose a Session\n\n\n\nMorning \nEvening\n\n\n\nName of Participant:
URL:https://thegoodnewscenter.org/event/33-days-to-eucharistic-glory/2025-05-28/
LOCATION:NY
CATEGORIES:Events,PAL,Relationship Programs,Spiritual Programs,Support Groups
END:VEVENT
BEGIN:VEVENT
DTSTART;TZID=America/New_York:20231211T180000
DTEND;TZID=America/New_York:20231211T193000
DTSTAMP:20260422T101133
CREATED:20230103T154848Z
LAST-MODIFIED:20251008T232018Z
UID:10000109-1702317600-1702323000@thegoodnewscenter.org
SUMMARY:PAL - Parents of Addicted Loved Ones
DESCRIPTION:[vc_row][vc_column][vc_column_text css=””][/vc_column_text][/vc_column][/vc_row]
URL:https://thegoodnewscenter.org/event/parents-of-addicted-loved-ones-2023-12-11/2023-12-11/2/
LOCATION:NY
CATEGORIES:Events,PAL,Relationship Programs,Support Groups
ATTACH;FMTTYPE=image/jpeg:https://thegoodnewscenter.org/wp-content/uploads/2025/09/pal_bg.jpg
END:VEVENT
BEGIN:VEVENT
DTSTART;TZID=America/New_York:20231211T080000
DTEND;TZID=America/New_York:20231211T170000
DTSTAMP:20260422T101133
CREATED:20230103T154848Z
LAST-MODIFIED:20251008T232018Z
UID:10000627-1702281600-1702314000@thegoodnewscenter.org
SUMMARY:PAL - Parents of Addicted Loved Ones
DESCRIPTION:[vc_row][vc_column][vc_column_text css=””][/vc_column_text][/vc_column][/vc_row]
URL:https://thegoodnewscenter.org/event/parents-of-addicted-loved-ones-2023-12-11/2023-12-11/1/
LOCATION:NY
CATEGORIES:Events,PAL,Relationship Programs,Support Groups
ATTACH;FMTTYPE=image/jpeg:https://thegoodnewscenter.org/wp-content/uploads/2025/09/pal_bg.jpg
END:VEVENT
BEGIN:VEVENT
DTSTART;TZID=America/New_York:20231127T180000
DTEND;TZID=America/New_York:20231127T193000
DTSTAMP:20260422T101133
CREATED:20230103T154848Z
LAST-MODIFIED:20251008T231431Z
UID:10000108-1701108000-1701113400@thegoodnewscenter.org
SUMMARY:Parents of Addicted Loved Ones
DESCRIPTION:
URL:https://thegoodnewscenter.org/event/parents-of-addicted-loved-ones-2023-11-27/2023-11-27/
LOCATION:NY
CATEGORIES:Events,PAL,Relationship Programs,Support Groups
END:VEVENT
BEGIN:VEVENT
DTSTART;TZID=America/New_York:20231127T080000
DTEND;TZID=America/New_York:20231127T170000
DTSTAMP:20260422T101133
CREATED:20230103T154848Z
LAST-MODIFIED:20251008T232018Z
UID:10000626-1701072000-1701104400@thegoodnewscenter.org
SUMMARY:PAL - Parents of Addicted Loved Ones
DESCRIPTION:[vc_row][vc_column][vc_column_text css=””][/vc_column_text][/vc_column][/vc_row]
URL:https://thegoodnewscenter.org/event/parents-of-addicted-loved-ones-2023-12-11/2023-11-27/
LOCATION:NY
CATEGORIES:Events,PAL,Relationship Programs,Support Groups
ATTACH;FMTTYPE=image/jpeg:https://thegoodnewscenter.org/wp-content/uploads/2025/09/pal_bg.jpg
END:VEVENT
BEGIN:VEVENT
DTSTART;TZID=America/New_York:20231115T100000
DTEND;TZID=America/New_York:20231115T120000
DTSTAMP:20260422T101133
CREATED:20230404T142058Z
LAST-MODIFIED:20250929T181851Z
UID:10000242-1700042400-1700049600@thegoodnewscenter.org
SUMMARY:First Corinthians Bible Study
DESCRIPTION:Session\n\n\nMorning 10am-12pmEvening 6pm- 8pm\n\n\nName of Participants
URL:https://thegoodnewscenter.org/event/first-corinthians-bible-study-2023-11-15/2023-11-15/
LOCATION:NY
CATEGORIES:Bible Study,Events,PAL,Spiritual Enrichment,Spiritual Programs,Support Groups
END:VEVENT
BEGIN:VEVENT
DTSTART;TZID=America/New_York:20231113T180000
DTEND;TZID=America/New_York:20231113T193000
DTSTAMP:20260422T101133
CREATED:20230103T154848Z
LAST-MODIFIED:20251008T231439Z
UID:10000107-1699898400-1699903800@thegoodnewscenter.org
SUMMARY:Parents of Addicted Loved Ones
DESCRIPTION:
URL:https://thegoodnewscenter.org/event/parents-of-addicted-loved-ones-2023-11-13/2023-11-13/
LOCATION:NY
CATEGORIES:Events,PAL,Relationship Programs,Support Groups
END:VEVENT
BEGIN:VEVENT
DTSTART;TZID=America/New_York:20231113T080000
DTEND;TZID=America/New_York:20231113T170000
DTSTAMP:20260422T101133
CREATED:20230103T154848Z
LAST-MODIFIED:20251008T232018Z
UID:10000625-1699862400-1699894800@thegoodnewscenter.org
SUMMARY:PAL - Parents of Addicted Loved Ones
DESCRIPTION:[vc_row][vc_column][vc_column_text css=””][/vc_column_text][/vc_column][/vc_row]
URL:https://thegoodnewscenter.org/event/parents-of-addicted-loved-ones-2023-12-11/2023-11-13/
LOCATION:NY
CATEGORIES:Events,PAL,Relationship Programs,Support Groups
ATTACH;FMTTYPE=image/jpeg:https://thegoodnewscenter.org/wp-content/uploads/2025/09/pal_bg.jpg
END:VEVENT
BEGIN:VEVENT
DTSTART;TZID=America/New_York:20231108T100000
DTEND;TZID=America/New_York:20231108T120000
DTSTAMP:20260422T101133
CREATED:20230404T142058Z
LAST-MODIFIED:20250929T181851Z
UID:10000241-1699437600-1699444800@thegoodnewscenter.org
SUMMARY:First Corinthians Bible Study
DESCRIPTION:Session\n\n\nMorning 10am-12pmEvening 6pm- 8pm\n\n\nName of Participants
URL:https://thegoodnewscenter.org/event/first-corinthians-bible-study-2023-11-08/2023-11-08/
LOCATION:NY
CATEGORIES:Bible Study,Events,PAL,Spiritual Enrichment,Spiritual Programs,Support Groups
END:VEVENT
BEGIN:VEVENT
DTSTART;TZID=America/New_York:20231101T100000
DTEND;TZID=America/New_York:20231101T120000
DTSTAMP:20260422T101133
CREATED:20230404T142058Z
LAST-MODIFIED:20250929T181851Z
UID:10000240-1698832800-1698840000@thegoodnewscenter.org
SUMMARY:First Corinthians Bible Study
DESCRIPTION:Session\n\n\nMorning 10am-12pmEvening 6pm- 8pm\n\n\nName of Participants
URL:https://thegoodnewscenter.org/event/first-corinthians-bible-study-2023-11-01/2023-11-01/
LOCATION:NY
CATEGORIES:Bible Study,Events,PAL,Spiritual Enrichment,Spiritual Programs,Support Groups
END:VEVENT
BEGIN:VEVENT
DTSTART;TZID=America/New_York:20231030T180000
DTEND;TZID=America/New_York:20231030T193000
DTSTAMP:20260422T101133
CREATED:20230103T154848Z
LAST-MODIFIED:20251008T231447Z
UID:10000106-1698688800-1698694200@thegoodnewscenter.org
SUMMARY:Parents of Addicted Loved Ones
DESCRIPTION:
URL:https://thegoodnewscenter.org/event/parents-of-addicted-loved-ones-2023-10-30/2023-10-30/
LOCATION:NY
CATEGORIES:Events,PAL,Relationship Programs,Support Groups
END:VEVENT
BEGIN:VEVENT
DTSTART;TZID=America/New_York:20231030T080000
DTEND;TZID=America/New_York:20231030T170000
DTSTAMP:20260422T101133
CREATED:20230103T154848Z
LAST-MODIFIED:20251008T232018Z
UID:10000624-1698652800-1698685200@thegoodnewscenter.org
SUMMARY:PAL - Parents of Addicted Loved Ones
DESCRIPTION:[vc_row][vc_column][vc_column_text css=””][/vc_column_text][/vc_column][/vc_row]
URL:https://thegoodnewscenter.org/event/parents-of-addicted-loved-ones-2023-12-11/2023-10-30/
LOCATION:NY
CATEGORIES:Events,PAL,Relationship Programs,Support Groups
ATTACH;FMTTYPE=image/jpeg:https://thegoodnewscenter.org/wp-content/uploads/2025/09/pal_bg.jpg
END:VEVENT
BEGIN:VEVENT
DTSTART;TZID=America/New_York:20231025T100000
DTEND;TZID=America/New_York:20231025T120000
DTSTAMP:20260422T101133
CREATED:20230404T142058Z
LAST-MODIFIED:20250929T181851Z
UID:10000239-1698228000-1698235200@thegoodnewscenter.org
SUMMARY:First Corinthians Bible Study
DESCRIPTION:Session\n\n\nMorning 10am-12pmEvening 6pm- 8pm\n\n\nName of Participants
URL:https://thegoodnewscenter.org/event/first-corinthians-bible-study-2023-10-25/2023-10-25/
LOCATION:NY
CATEGORIES:Bible Study,Events,PAL,Spiritual Enrichment,Spiritual Programs,Support Groups
END:VEVENT
BEGIN:VEVENT
DTSTART;TZID=America/New_York:20231018T100000
DTEND;TZID=America/New_York:20231018T120000
DTSTAMP:20260422T101133
CREATED:20230404T142058Z
LAST-MODIFIED:20250929T181851Z
UID:10000238-1697623200-1697630400@thegoodnewscenter.org
SUMMARY:First Corinthians Bible Study
DESCRIPTION:Session\n\n\nMorning 10am-12pmEvening 6pm- 8pm\n\n\nName of Participants
URL:https://thegoodnewscenter.org/event/first-corinthians-bible-study-2023-10-18/2023-10-18/
LOCATION:NY
CATEGORIES:Bible Study,Events,PAL,Spiritual Enrichment,Spiritual Programs,Support Groups
END:VEVENT
BEGIN:VEVENT
DTSTART;TZID=America/New_York:20231016T180000
DTEND;TZID=America/New_York:20231016T193000
DTSTAMP:20260422T101133
CREATED:20230103T154848Z
LAST-MODIFIED:20250929T181850Z
UID:10000105-1697479200-1697484600@thegoodnewscenter.org
SUMMARY:PAL Parents of Addicted Loved Ones
DESCRIPTION:
URL:https://thegoodnewscenter.org/event/pal-parents-of-addicted-loved-ones-2023-10-16/2023-10-16/
LOCATION:NY
CATEGORIES:Events,PAL,Relationship Programs,Support Groups
END:VEVENT
BEGIN:VEVENT
DTSTART;TZID=America/New_York:20231016T080000
DTEND;TZID=America/New_York:20231016T170000
DTSTAMP:20260422T101133
CREATED:20230103T154848Z
LAST-MODIFIED:20251008T232018Z
UID:10000623-1697443200-1697475600@thegoodnewscenter.org
SUMMARY:PAL - Parents of Addicted Loved Ones
DESCRIPTION:[vc_row][vc_column][vc_column_text css=””][/vc_column_text][/vc_column][/vc_row]
URL:https://thegoodnewscenter.org/event/parents-of-addicted-loved-ones-2023-12-11/2023-10-16/
LOCATION:NY
CATEGORIES:Events,PAL,Relationship Programs,Support Groups
ATTACH;FMTTYPE=image/jpeg:https://thegoodnewscenter.org/wp-content/uploads/2025/09/pal_bg.jpg
END:VEVENT
BEGIN:VEVENT
DTSTART;TZID=America/New_York:20231011T100000
DTEND;TZID=America/New_York:20231011T120000
DTSTAMP:20260422T101133
CREATED:20230404T142058Z
LAST-MODIFIED:20250929T181851Z
UID:10000237-1697018400-1697025600@thegoodnewscenter.org
SUMMARY:First Corinthians Bible Study
DESCRIPTION:Session\n\n\nMorning 10am-12pmEvening 6pm- 8pm\n\n\nName of Participants
URL:https://thegoodnewscenter.org/event/first-corinthians-bible-study-2023-10-11/2023-10-11/
LOCATION:NY
CATEGORIES:Bible Study,Events,PAL,Spiritual Enrichment,Spiritual Programs,Support Groups
END:VEVENT
BEGIN:VEVENT
DTSTART;TZID=America/New_York:20231004T100000
DTEND;TZID=America/New_York:20231004T120000
DTSTAMP:20260422T101133
CREATED:20230404T142058Z
LAST-MODIFIED:20250929T181851Z
UID:10000236-1696413600-1696420800@thegoodnewscenter.org
SUMMARY:First Corinthians Bible Study
DESCRIPTION:Session\n\n\nMorning 10am-12pmEvening 6pm- 8pm\n\n\nName of Participants
URL:https://thegoodnewscenter.org/event/first-corinthians-bible-study-2023-10-04/2023-10-04/
LOCATION:NY
CATEGORIES:Bible Study,Events,PAL,Spiritual Enrichment,Spiritual Programs,Support Groups
END:VEVENT
BEGIN:VEVENT
DTSTART;TZID=America/New_York:20230927T100000
DTEND;TZID=America/New_York:20230927T120000
DTSTAMP:20260422T101133
CREATED:20230404T142058Z
LAST-MODIFIED:20250929T181851Z
UID:10000235-1695808800-1695816000@thegoodnewscenter.org
SUMMARY:First Corinthians Bible Study
DESCRIPTION:Session\n\n\nMorning 10am-12pmEvening 6pm- 8pm\n\n\nName of Participants
URL:https://thegoodnewscenter.org/event/first-corinthians-bible-study-2023-09-27/2023-09-27/
LOCATION:NY
CATEGORIES:Bible Study,Events,PAL,Spiritual Enrichment,Spiritual Programs,Support Groups
END:VEVENT
BEGIN:VEVENT
DTSTART;TZID=America/New_York:20230925T180000
DTEND;TZID=America/New_York:20230925T193000
DTSTAMP:20260422T101133
CREATED:20230103T154848Z
LAST-MODIFIED:20250929T181850Z
UID:10000104-1695664800-1695670200@thegoodnewscenter.org
SUMMARY:PAL Parents of Addicted Loved Ones
DESCRIPTION:
URL:https://thegoodnewscenter.org/event/pal-parents-of-addicted-loved-ones-2023-09-25/2023-09-25/
LOCATION:NY
CATEGORIES:Events,PAL,Relationship Programs,Support Groups
END:VEVENT
BEGIN:VEVENT
DTSTART;TZID=America/New_York:20230925T080000
DTEND;TZID=America/New_York:20230925T170000
DTSTAMP:20260422T101133
CREATED:20230103T154848Z
LAST-MODIFIED:20251008T232018Z
UID:10000622-1695628800-1695661200@thegoodnewscenter.org
SUMMARY:PAL - Parents of Addicted Loved Ones
DESCRIPTION:[vc_row][vc_column][vc_column_text css=””][/vc_column_text][/vc_column][/vc_row]
URL:https://thegoodnewscenter.org/event/parents-of-addicted-loved-ones-2023-12-11/2023-09-25/
LOCATION:NY
CATEGORIES:Events,PAL,Relationship Programs,Support Groups
ATTACH;FMTTYPE=image/jpeg:https://thegoodnewscenter.org/wp-content/uploads/2025/09/pal_bg.jpg
END:VEVENT
BEGIN:VEVENT
DTSTART;TZID=America/New_York:20230920T100000
DTEND;TZID=America/New_York:20230920T120000
DTSTAMP:20260422T101133
CREATED:20230404T142058Z
LAST-MODIFIED:20250929T181851Z
UID:10000234-1695204000-1695211200@thegoodnewscenter.org
SUMMARY:First Corinthians Bible Study
DESCRIPTION:Session\n\n\nMorning 10am-12pmEvening 6pm- 8pm\n\n\nName of Participants
URL:https://thegoodnewscenter.org/event/first-corinthians-bible-study-2023-09-20/2023-09-20/
LOCATION:NY
CATEGORIES:Bible Study,Events,PAL,Spiritual Enrichment,Spiritual Programs,Support Groups
END:VEVENT
BEGIN:VEVENT
DTSTART;TZID=America/New_York:20230913T100000
DTEND;TZID=America/New_York:20230913T120000
DTSTAMP:20260422T101133
CREATED:20230404T142058Z
LAST-MODIFIED:20250929T181851Z
UID:10000233-1694599200-1694606400@thegoodnewscenter.org
SUMMARY:First Corinthians Bible Study
DESCRIPTION:Session\n\n\nMorning 10am-12pmEvening 6pm- 8pm\n\n\nName of Participants
URL:https://thegoodnewscenter.org/event/first-corinthians-bible-study-2023-09-13/2023-09-13/
LOCATION:NY
CATEGORIES:Bible Study,Events,PAL,Spiritual Enrichment,Spiritual Programs,Support Groups
END:VEVENT
BEGIN:VEVENT
DTSTART;TZID=America/New_York:20230911T180000
DTEND;TZID=America/New_York:20230911T193000
DTSTAMP:20260422T101133
CREATED:20230103T154848Z
LAST-MODIFIED:20250929T181850Z
UID:10000103-1694455200-1694460600@thegoodnewscenter.org
SUMMARY:PAL Parents of Addicted Loved Ones
DESCRIPTION:
URL:https://thegoodnewscenter.org/event/pal-parents-of-addicted-loved-ones-2023-09-11/2023-09-11/
LOCATION:NY
CATEGORIES:Events,PAL,Relationship Programs,Support Groups
END:VEVENT
BEGIN:VEVENT
DTSTART;TZID=America/New_York:20230911T080000
DTEND;TZID=America/New_York:20230911T170000
DTSTAMP:20260422T101133
CREATED:20230103T154848Z
LAST-MODIFIED:20251008T232018Z
UID:10000621-1694419200-1694451600@thegoodnewscenter.org
SUMMARY:PAL - Parents of Addicted Loved Ones
DESCRIPTION:[vc_row][vc_column][vc_column_text css=””][/vc_column_text][/vc_column][/vc_row]
URL:https://thegoodnewscenter.org/event/parents-of-addicted-loved-ones-2023-12-11/2023-09-11/
LOCATION:NY
CATEGORIES:Events,PAL,Relationship Programs,Support Groups
ATTACH;FMTTYPE=image/jpeg:https://thegoodnewscenter.org/wp-content/uploads/2025/09/pal_bg.jpg
END:VEVENT
BEGIN:VEVENT
DTSTART;TZID=America/New_York:20230821T180000
DTEND;TZID=America/New_York:20230821T193000
DTSTAMP:20260422T101133
CREATED:20230103T154848Z
LAST-MODIFIED:20250929T181850Z
UID:10000102-1692640800-1692646200@thegoodnewscenter.org
SUMMARY:PAL Parents of Addicted Loved Ones
DESCRIPTION:
URL:https://thegoodnewscenter.org/event/pal-parents-of-addicted-loved-ones-2023-08-21/2023-08-21/
LOCATION:NY
CATEGORIES:Events,PAL,Relationship Programs,Support Groups
END:VEVENT
BEGIN:VEVENT
DTSTART;TZID=America/New_York:20230821T080000
DTEND;TZID=America/New_York:20230821T170000
DTSTAMP:20260422T101133
CREATED:20230103T154848Z
LAST-MODIFIED:20251008T232018Z
UID:10000620-1692604800-1692637200@thegoodnewscenter.org
SUMMARY:PAL - Parents of Addicted Loved Ones
DESCRIPTION:[vc_row][vc_column][vc_column_text css=””][/vc_column_text][/vc_column][/vc_row]
URL:https://thegoodnewscenter.org/event/parents-of-addicted-loved-ones-2023-12-11/2023-08-21/
LOCATION:NY
CATEGORIES:Events,PAL,Relationship Programs,Support Groups
ATTACH;FMTTYPE=image/jpeg:https://thegoodnewscenter.org/wp-content/uploads/2025/09/pal_bg.jpg
END:VEVENT
BEGIN:VEVENT
DTSTART;TZID=America/New_York:20230807T180000
DTEND;TZID=America/New_York:20230807T193000
DTSTAMP:20260422T101133
CREATED:20230103T154848Z
LAST-MODIFIED:20250929T181850Z
UID:10000101-1691431200-1691436600@thegoodnewscenter.org
SUMMARY:PAL Parents of Addicted Loved Ones
DESCRIPTION:
URL:https://thegoodnewscenter.org/event/pal-parents-of-addicted-loved-ones-2023-08-07/2023-08-07/
LOCATION:NY
CATEGORIES:Events,PAL,Relationship Programs,Support Groups
END:VEVENT
BEGIN:VEVENT
DTSTART;TZID=America/New_York:20230807T080000
DTEND;TZID=America/New_York:20230807T170000
DTSTAMP:20260422T101133
CREATED:20230103T154848Z
LAST-MODIFIED:20251008T232018Z
UID:10000619-1691395200-1691427600@thegoodnewscenter.org
SUMMARY:PAL - Parents of Addicted Loved Ones
DESCRIPTION:[vc_row][vc_column][vc_column_text css=””][/vc_column_text][/vc_column][/vc_row]
URL:https://thegoodnewscenter.org/event/parents-of-addicted-loved-ones-2023-12-11/2023-08-07/
LOCATION:NY
CATEGORIES:Events,PAL,Relationship Programs,Support Groups
ATTACH;FMTTYPE=image/jpeg:https://thegoodnewscenter.org/wp-content/uploads/2025/09/pal_bg.jpg
END:VEVENT
BEGIN:VEVENT
DTSTART;TZID=America/New_York:20230724T180000
DTEND;TZID=America/New_York:20230724T193000
DTSTAMP:20260422T101133
CREATED:20230103T154848Z
LAST-MODIFIED:20250929T181850Z
UID:10000100-1690221600-1690227000@thegoodnewscenter.org
SUMMARY:PAL Parents of Addicted Loved Ones
DESCRIPTION:
URL:https://thegoodnewscenter.org/event/pal-parents-of-addicted-loved-ones-2023-07-24/2023-07-24/
LOCATION:NY
CATEGORIES:Events,PAL,Relationship Programs,Support Groups
END:VEVENT
END:VCALENDAR