BEGIN:VCALENDAR
VERSION:2.0
PRODID:-//The Good News Center - ECPv6.15.20//NONSGML v1.0//EN
CALSCALE:GREGORIAN
METHOD:PUBLISH
X-WR-CALNAME:The Good News Center
X-ORIGINAL-URL:https://thegoodnewscenter.org
X-WR-CALDESC:Events for The Good News Center
REFRESH-INTERVAL;VALUE=DURATION:PT1H
X-Robots-Tag:noindex
X-PUBLISHED-TTL:PT1H
BEGIN:VTIMEZONE
TZID:America/New_York
BEGIN:DAYLIGHT
TZOFFSETFROM:-0500
TZOFFSETTO:-0400
TZNAME:EDT
DTSTART:20250309T070000
END:DAYLIGHT
BEGIN:STANDARD
TZOFFSETFROM:-0400
TZOFFSETTO:-0500
TZNAME:EST
DTSTART:20251102T060000
END:STANDARD
BEGIN:DAYLIGHT
TZOFFSETFROM:-0500
TZOFFSETTO:-0400
TZNAME:EDT
DTSTART:20260308T070000
END:DAYLIGHT
BEGIN:STANDARD
TZOFFSETFROM:-0400
TZOFFSETTO:-0500
TZNAME:EST
DTSTART:20261101T060000
END:STANDARD
BEGIN:DAYLIGHT
TZOFFSETFROM:-0500
TZOFFSETTO:-0400
TZNAME:EDT
DTSTART:20270314T070000
END:DAYLIGHT
BEGIN:STANDARD
TZOFFSETFROM:-0400
TZOFFSETTO:-0500
TZNAME:EST
DTSTART:20271107T060000
END:STANDARD
END:VTIMEZONE
BEGIN:VEVENT
DTSTART;TZID=America/New_York:20260517T183000
DTEND;TZID=America/New_York:20260517T203000
DTSTAMP:20260421T113011
CREATED:20251006T234117Z
LAST-MODIFIED:20251216T000324Z
UID:10000574-1779042600-1779049800@thegoodnewscenter.org
SUMMARY:The Third Option
DESCRIPTION:[vc_row][vc_column][vc_column_text css=””] \nAre you surviving or thriving in your relationship? \nLearn to heal\, grow and live a happier healthier life together. \nThe Third Option is a free and confidential skills-based program that helps participants build a life based on respect\, communication\, and mutual support.\nThe groups focus is on encouraging open dialogue\, building trust\, listening to\nunderstand and speaking with truth and love. \nIn-person or online meetings via Zoom. Meets every other Sunday 6:30-8:30 pm (except holidays).[/vc_column_text][/vc_column][/vc_row][vc_row][vc_column]\n	Notice: JavaScript is required for this content.\n\n\n    \n\n\n        \n        \n        \n\n\n\n\n\n\n\n\n\n\n        \n\n        \n\n        [/vc_column][/vc_row]
URL:https://thegoodnewscenter.org/event/the-third-option-2/2026-05-17/
LOCATION:The Good News Center\, 10475 Cosby Manor Road\, Utica\, NY\, 13502\, United States
CATEGORIES:Events,Relationship Programs,The Third Option
ATTACH;FMTTYPE=image/jpeg:https://thegoodnewscenter.org/wp-content/uploads/2025/10/thirdoption43.jpg
END:VEVENT
BEGIN:VEVENT
DTSTART;TZID=America/New_York:20260531T183000
DTEND;TZID=America/New_York:20260531T203000
DTSTAMP:20260421T113011
CREATED:20251006T234117Z
LAST-MODIFIED:20251216T000324Z
UID:10000575-1780252200-1780259400@thegoodnewscenter.org
SUMMARY:The Third Option
DESCRIPTION:[vc_row][vc_column][vc_column_text css=””] \nAre you surviving or thriving in your relationship? \nLearn to heal\, grow and live a happier healthier life together. \nThe Third Option is a free and confidential skills-based program that helps participants build a life based on respect\, communication\, and mutual support.\nThe groups focus is on encouraging open dialogue\, building trust\, listening to\nunderstand and speaking with truth and love. \nIn-person or online meetings via Zoom. Meets every other Sunday 6:30-8:30 pm (except holidays).[/vc_column_text][/vc_column][/vc_row][vc_row][vc_column]\n	Notice: JavaScript is required for this content.\n\n\n    \n\n\n        \n        \n        \n\n\n\n\n\n\n\n\n\n\n        \n\n        \n\n        [/vc_column][/vc_row]
URL:https://thegoodnewscenter.org/event/the-third-option-2/2026-05-31/
LOCATION:The Good News Center\, 10475 Cosby Manor Road\, Utica\, NY\, 13502\, United States
CATEGORIES:Events,Relationship Programs,The Third Option
ATTACH;FMTTYPE=image/jpeg:https://thegoodnewscenter.org/wp-content/uploads/2025/10/thirdoption43.jpg
END:VEVENT
END:VCALENDAR