BEGIN:VCALENDAR
VERSION:2.0
PRODID:-//The Good News Center - ECPv6.15.20//NONSGML v1.0//EN
CALSCALE:GREGORIAN
METHOD:PUBLISH
X-WR-CALNAME:The Good News Center
X-ORIGINAL-URL:https://thegoodnewscenter.org
X-WR-CALDESC:Events for The Good News Center
REFRESH-INTERVAL;VALUE=DURATION:PT1H
X-Robots-Tag:noindex
X-PUBLISHED-TTL:PT1H
BEGIN:VTIMEZONE
TZID:America/New_York
BEGIN:DAYLIGHT
TZOFFSETFROM:-0500
TZOFFSETTO:-0400
TZNAME:EDT
DTSTART:20220313T070000
END:DAYLIGHT
BEGIN:STANDARD
TZOFFSETFROM:-0400
TZOFFSETTO:-0500
TZNAME:EST
DTSTART:20221106T060000
END:STANDARD
BEGIN:DAYLIGHT
TZOFFSETFROM:-0500
TZOFFSETTO:-0400
TZNAME:EDT
DTSTART:20230312T070000
END:DAYLIGHT
BEGIN:STANDARD
TZOFFSETFROM:-0400
TZOFFSETTO:-0500
TZNAME:EST
DTSTART:20231105T060000
END:STANDARD
BEGIN:DAYLIGHT
TZOFFSETFROM:-0500
TZOFFSETTO:-0400
TZNAME:EDT
DTSTART:20240310T070000
END:DAYLIGHT
BEGIN:STANDARD
TZOFFSETFROM:-0400
TZOFFSETTO:-0500
TZNAME:EST
DTSTART:20241103T060000
END:STANDARD
END:VTIMEZONE
BEGIN:VEVENT
DTSTART;TZID=America/New_York:20230602T083000
DTEND;TZID=America/New_York:20230602T120000
DTSTAMP:20260420T073603
CREATED:20230302T151022Z
LAST-MODIFIED:20230302T151022Z
UID:10000223-1685694600-1685707200@thegoodnewscenter.org
SUMMARY:International Exhibition The Eucharistic Miracles of the World
DESCRIPTION:
URL:https://thegoodnewscenter.org/event/international-exhibition-the-eucharistic-miracles-of-the-world-2023-06-02/2023-06-02/
CATEGORIES:Events,Spiritual Programs
END:VEVENT
BEGIN:VEVENT
DTSTART;TZID=America/New_York:20230601T083000
DTEND;TZID=America/New_York:20230601T163000
DTSTAMP:20260420T073603
CREATED:20230302T151022Z
LAST-MODIFIED:20230302T151022Z
UID:10000179-1685608200-1685637000@thegoodnewscenter.org
SUMMARY:International Exhibition The Eucharistic Miracles of the World
DESCRIPTION:
URL:https://thegoodnewscenter.org/event/international-exhibition-the-eucharistic-miracles-of-the-world-2023-06-01/2023-06-01/
CATEGORIES:Events,Spiritual Programs
END:VEVENT
BEGIN:VEVENT
DTSTART;TZID=America/New_York:20230531T100000
DTEND;TZID=America/New_York:20230531T120000
DTSTAMP:20260420T073603
CREATED:20230201T192836Z
LAST-MODIFIED:20250929T181129Z
UID:10000161-1685527200-1685534400@thegoodnewscenter.org
SUMMARY:Bible Study-Divine Mercy
DESCRIPTION:
URL:https://thegoodnewscenter.org/event/bible-study-divine-mercy-2023-05-31/2023-05-31/
CATEGORIES:Bible Study,Events,Spiritual Enrichment,Spiritual Programs
END:VEVENT
BEGIN:VEVENT
DTSTART;TZID=America/New_York:20230531T083000
DTEND;TZID=America/New_York:20230531T163000
DTSTAMP:20260420T073603
CREATED:20230302T151022Z
LAST-MODIFIED:20230302T151022Z
UID:10000178-1685521800-1685550600@thegoodnewscenter.org
SUMMARY:International Exhibition The Eucharistic Miracles of the World
DESCRIPTION:
URL:https://thegoodnewscenter.org/event/international-exhibition-the-eucharistic-miracles-of-the-world-2023-05-31/2023-05-31/
CATEGORIES:Events,Spiritual Programs
END:VEVENT
BEGIN:VEVENT
DTSTART;TZID=America/New_York:20230530T150000
DTEND;TZID=America/New_York:20230530T163000
DTSTAMP:20260420T073603
CREATED:20230103T165117Z
LAST-MODIFIED:20250922T021302Z
UID:10000150-1685458800-1685464200@thegoodnewscenter.org
SUMMARY:Women at the Well
DESCRIPTION:
URL:https://thegoodnewscenter.org/event/women-at-the-well-2023-05-30/2023-05-30/
CATEGORIES:Events,Relationship Programs,Spiritual Programs,Women at the Well
END:VEVENT
BEGIN:VEVENT
DTSTART;TZID=America/New_York:20230530T083000
DTEND;TZID=America/New_York:20230530T163000
DTSTAMP:20260420T073603
CREATED:20230302T151022Z
LAST-MODIFIED:20230302T151022Z
UID:10000177-1685435400-1685464200@thegoodnewscenter.org
SUMMARY:International Exhibition The Eucharistic Miracles of the World
DESCRIPTION:
URL:https://thegoodnewscenter.org/event/international-exhibition-the-eucharistic-miracles-of-the-world-2023-05-30/2023-05-30/
CATEGORIES:Events,Spiritual Programs
END:VEVENT
BEGIN:VEVENT
DTSTART;TZID=America/New_York:20230529T083000
DTEND;TZID=America/New_York:20230529T163000
DTSTAMP:20260420T073603
CREATED:20230302T151022Z
LAST-MODIFIED:20230302T151022Z
UID:10000176-1685349000-1685377800@thegoodnewscenter.org
SUMMARY:International Exhibition The Eucharistic Miracles of the World
DESCRIPTION:
URL:https://thegoodnewscenter.org/event/international-exhibition-the-eucharistic-miracles-of-the-world-2023-05-29/2023-05-29/
CATEGORIES:Events,Spiritual Programs
END:VEVENT
BEGIN:VEVENT
DTSTART;TZID=America/New_York:20230526T083000
DTEND;TZID=America/New_York:20230526T120000
DTSTAMP:20260420T073603
CREATED:20230302T151022Z
LAST-MODIFIED:20230302T151022Z
UID:10000222-1685089800-1685102400@thegoodnewscenter.org
SUMMARY:International Exhibition The Eucharistic Miracles of the World
DESCRIPTION:
URL:https://thegoodnewscenter.org/event/international-exhibition-the-eucharistic-miracles-of-the-world-2023-05-26/2023-05-26/
CATEGORIES:Events,Spiritual Programs
END:VEVENT
BEGIN:VEVENT
DTSTART;TZID=America/New_York:20230525T083000
DTEND;TZID=America/New_York:20230525T163000
DTSTAMP:20260420T073603
CREATED:20230302T151022Z
LAST-MODIFIED:20230302T151022Z
UID:10000175-1685003400-1685032200@thegoodnewscenter.org
SUMMARY:International Exhibition The Eucharistic Miracles of the World
DESCRIPTION:
URL:https://thegoodnewscenter.org/event/international-exhibition-the-eucharistic-miracles-of-the-world-2023-05-25/2023-05-25/
CATEGORIES:Events,Spiritual Programs
END:VEVENT
BEGIN:VEVENT
DTSTART;TZID=America/New_York:20230524T100000
DTEND;TZID=America/New_York:20230524T120000
DTSTAMP:20260420T073603
CREATED:20230201T192836Z
LAST-MODIFIED:20250929T181129Z
UID:10000160-1684922400-1684929600@thegoodnewscenter.org
SUMMARY:Bible Study-Divine Mercy
DESCRIPTION:
URL:https://thegoodnewscenter.org/event/bible-study-divine-mercy-2023-05-24/2023-05-24/
CATEGORIES:Bible Study,Events,Spiritual Enrichment,Spiritual Programs
END:VEVENT
BEGIN:VEVENT
DTSTART;TZID=America/New_York:20230524T083000
DTEND;TZID=America/New_York:20230524T163000
DTSTAMP:20260420T073603
CREATED:20230302T151022Z
LAST-MODIFIED:20230302T151022Z
UID:10000174-1684917000-1684945800@thegoodnewscenter.org
SUMMARY:International Exhibition The Eucharistic Miracles of the World
DESCRIPTION:
URL:https://thegoodnewscenter.org/event/international-exhibition-the-eucharistic-miracles-of-the-world-2023-05-24/2023-05-24/
CATEGORIES:Events,Spiritual Programs
END:VEVENT
BEGIN:VEVENT
DTSTART;TZID=America/New_York:20230523T180000
DTEND;TZID=America/New_York:20230523T193000
DTSTAMP:20260420T073603
CREATED:20230103T152524Z
LAST-MODIFIED:20230103T152524Z
UID:10000066-1684864800-1684870200@thegoodnewscenter.org
SUMMARY:Grief Survivors
DESCRIPTION:
URL:https://thegoodnewscenter.org/event/grief-survivors-2023-05-23/2023-05-23/
CATEGORIES:Events,Relationship Programs
END:VEVENT
BEGIN:VEVENT
DTSTART;TZID=America/New_York:20230523T083000
DTEND;TZID=America/New_York:20230523T163000
DTSTAMP:20260420T073603
CREATED:20230302T151022Z
LAST-MODIFIED:20230302T151022Z
UID:10000173-1684830600-1684859400@thegoodnewscenter.org
SUMMARY:International Exhibition The Eucharistic Miracles of the World
DESCRIPTION:
URL:https://thegoodnewscenter.org/event/international-exhibition-the-eucharistic-miracles-of-the-world-2023-05-23/2023-05-23/
CATEGORIES:Events,Spiritual Programs
END:VEVENT
BEGIN:VEVENT
DTSTART;TZID=America/New_York:20230522T180000
DTEND;TZID=America/New_York:20230522T193000
DTSTAMP:20260420T073603
CREATED:20230103T154848Z
LAST-MODIFIED:20250929T181850Z
UID:10000095-1684778400-1684783800@thegoodnewscenter.org
SUMMARY:PAL Parents of Addicted Loved Ones
DESCRIPTION:
URL:https://thegoodnewscenter.org/event/pal-parents-of-addicted-loved-ones-2023-05-22/2023-05-22/
CATEGORIES:Events,PAL,Relationship Programs,Support Groups
END:VEVENT
BEGIN:VEVENT
DTSTART;TZID=America/New_York:20230522T083000
DTEND;TZID=America/New_York:20230522T163000
DTSTAMP:20260420T073603
CREATED:20230302T151022Z
LAST-MODIFIED:20230302T151022Z
UID:10000172-1684744200-1684773000@thegoodnewscenter.org
SUMMARY:International Exhibition The Eucharistic Miracles of the World
DESCRIPTION:
URL:https://thegoodnewscenter.org/event/international-exhibition-the-eucharistic-miracles-of-the-world-2023-05-22/2023-05-22/
CATEGORIES:Events,Spiritual Programs
END:VEVENT
BEGIN:VEVENT
DTSTART;TZID=America/New_York:20230522T080000
DTEND;TZID=America/New_York:20230522T170000
DTSTAMP:20260420T073603
CREATED:20230103T154848Z
LAST-MODIFIED:20251008T232018Z
UID:10000614-1684742400-1684774800@thegoodnewscenter.org
SUMMARY:PAL - Parents of Addicted Loved Ones
DESCRIPTION:[vc_row][vc_column][vc_column_text css=””][/vc_column_text][/vc_column][/vc_row]
URL:https://thegoodnewscenter.org/event/parents-of-addicted-loved-ones-2023-12-11/2023-05-22/
CATEGORIES:Events,PAL,Relationship Programs,Support Groups
ATTACH;FMTTYPE=image/jpeg:https://thegoodnewscenter.org/wp-content/uploads/2025/09/pal_bg.jpg
END:VEVENT
BEGIN:VEVENT
DTSTART;TZID=America/New_York:20230521T183000
DTEND;TZID=America/New_York:20230521T203000
DTSTAMP:20260420T073603
CREATED:20230103T161811Z
LAST-MODIFIED:20230103T161811Z
UID:10000114-1684693800-1684701000@thegoodnewscenter.org
SUMMARY:The Third Option
DESCRIPTION:
URL:https://thegoodnewscenter.org/event/the-third-option-2023-05-21/2023-05-21/
CATEGORIES:Events,Relationship Programs
END:VEVENT
BEGIN:VEVENT
DTSTART;TZID=America/New_York:20230521T170000
DTEND;TZID=America/New_York:20230521T190000
DTSTAMP:20260420T073603
CREATED:20230103T162647Z
LAST-MODIFIED:20230103T162647Z
UID:10000133-1684688400-1684695600@thegoodnewscenter.org
SUMMARY:Separated & Divorced Support Group
DESCRIPTION:
URL:https://thegoodnewscenter.org/event/separated-divorced-support-group-2-2023-05-21/2023-05-21/
CATEGORIES:Events,Relationship Programs
END:VEVENT
BEGIN:VEVENT
DTSTART;TZID=America/New_York:20230519T083000
DTEND;TZID=America/New_York:20230519T120000
DTSTAMP:20260420T073603
CREATED:20230302T151022Z
LAST-MODIFIED:20230302T151022Z
UID:10000221-1684485000-1684497600@thegoodnewscenter.org
SUMMARY:International Exhibition The Eucharistic Miracles of the World
DESCRIPTION:
URL:https://thegoodnewscenter.org/event/international-exhibition-the-eucharistic-miracles-of-the-world-2023-05-19/2023-05-19/
CATEGORIES:Events,Spiritual Programs
END:VEVENT
BEGIN:VEVENT
DTSTART;TZID=America/New_York:20230518T083000
DTEND;TZID=America/New_York:20230518T163000
DTSTAMP:20260420T073603
CREATED:20230302T151022Z
LAST-MODIFIED:20230302T151022Z
UID:10000171-1684398600-1684427400@thegoodnewscenter.org
SUMMARY:International Exhibition The Eucharistic Miracles of the World
DESCRIPTION:
URL:https://thegoodnewscenter.org/event/international-exhibition-the-eucharistic-miracles-of-the-world-2023-05-18/2023-05-18/
CATEGORIES:Events,Spiritual Programs
END:VEVENT
BEGIN:VEVENT
DTSTART;TZID=America/New_York:20230517T100000
DTEND;TZID=America/New_York:20230517T120000
DTSTAMP:20260420T073603
CREATED:20230201T192836Z
LAST-MODIFIED:20250929T181129Z
UID:10000159-1684317600-1684324800@thegoodnewscenter.org
SUMMARY:Bible Study-Divine Mercy
DESCRIPTION:
URL:https://thegoodnewscenter.org/event/bible-study-divine-mercy-2023-05-17/2023-05-17/
CATEGORIES:Bible Study,Events,Spiritual Enrichment,Spiritual Programs
END:VEVENT
BEGIN:VEVENT
DTSTART;TZID=America/New_York:20230517T083000
DTEND;TZID=America/New_York:20230517T163000
DTSTAMP:20260420T073603
CREATED:20230302T151022Z
LAST-MODIFIED:20230302T151022Z
UID:10000170-1684312200-1684341000@thegoodnewscenter.org
SUMMARY:International Exhibition The Eucharistic Miracles of the World
DESCRIPTION:
URL:https://thegoodnewscenter.org/event/international-exhibition-the-eucharistic-miracles-of-the-world-2023-05-17/2023-05-17/
CATEGORIES:Events,Spiritual Programs
END:VEVENT
BEGIN:VEVENT
DTSTART;TZID=America/New_York:20230516T083000
DTEND;TZID=America/New_York:20230516T163000
DTSTAMP:20260420T073603
CREATED:20230302T151022Z
LAST-MODIFIED:20230302T151022Z
UID:10000169-1684225800-1684254600@thegoodnewscenter.org
SUMMARY:International Exhibition The Eucharistic Miracles of the World
DESCRIPTION:
URL:https://thegoodnewscenter.org/event/international-exhibition-the-eucharistic-miracles-of-the-world-2023-05-16/2023-05-16/
CATEGORIES:Events,Spiritual Programs
END:VEVENT
BEGIN:VEVENT
DTSTART;TZID=America/New_York:20230515T180000
DTEND;TZID=America/New_York:20230515T193000
DTSTAMP:20260420T073603
CREATED:20230103T153931Z
LAST-MODIFIED:20230103T153931Z
UID:10000083-1684173600-1684179000@thegoodnewscenter.org
SUMMARY:Caregiver Support Group
DESCRIPTION:
URL:https://thegoodnewscenter.org/event/caregiver-support-group-2023-05-15/2023-05-15/
CATEGORIES:Events,Relationship Programs
END:VEVENT
BEGIN:VEVENT
DTSTART;TZID=America/New_York:20230515T083000
DTEND;TZID=America/New_York:20230515T163000
DTSTAMP:20260420T073603
CREATED:20230302T151022Z
LAST-MODIFIED:20230302T151022Z
UID:10000168-1684139400-1684168200@thegoodnewscenter.org
SUMMARY:International Exhibition The Eucharistic Miracles of the World
DESCRIPTION:
URL:https://thegoodnewscenter.org/event/international-exhibition-the-eucharistic-miracles-of-the-world-2023-05-15/2023-05-15/
CATEGORIES:Events,Spiritual Programs
END:VEVENT
BEGIN:VEVENT
DTSTART;TZID=America/New_York:20230512T083000
DTEND;TZID=America/New_York:20230512T120000
DTSTAMP:20260420T073603
CREATED:20230302T151022Z
LAST-MODIFIED:20230302T151022Z
UID:10000220-1683880200-1683892800@thegoodnewscenter.org
SUMMARY:International Exhibition The Eucharistic Miracles of the World
DESCRIPTION:
URL:https://thegoodnewscenter.org/event/international-exhibition-the-eucharistic-miracles-of-the-world-2023-05-12/2023-05-12/
CATEGORIES:Events,Spiritual Programs
END:VEVENT
BEGIN:VEVENT
DTSTART;TZID=America/New_York:20230511T083000
DTEND;TZID=America/New_York:20230511T163000
DTSTAMP:20260420T073603
CREATED:20230302T151022Z
LAST-MODIFIED:20230302T151022Z
UID:10000167-1683793800-1683822600@thegoodnewscenter.org
SUMMARY:International Exhibition The Eucharistic Miracles of the World
DESCRIPTION:
URL:https://thegoodnewscenter.org/event/international-exhibition-the-eucharistic-miracles-of-the-world-2023-05-11/2023-05-11/
CATEGORIES:Events,Spiritual Programs
END:VEVENT
BEGIN:VEVENT
DTSTART;TZID=America/New_York:20230510T100000
DTEND;TZID=America/New_York:20230510T120000
DTSTAMP:20260420T073603
CREATED:20230201T192836Z
LAST-MODIFIED:20250929T181129Z
UID:10000158-1683712800-1683720000@thegoodnewscenter.org
SUMMARY:Bible Study-Divine Mercy
DESCRIPTION:
URL:https://thegoodnewscenter.org/event/bible-study-divine-mercy-2023-05-10/2023-05-10/
CATEGORIES:Bible Study,Events,Spiritual Enrichment,Spiritual Programs
END:VEVENT
BEGIN:VEVENT
DTSTART;TZID=America/New_York:20230510T083000
DTEND;TZID=America/New_York:20230510T163000
DTSTAMP:20260420T073603
CREATED:20230302T151022Z
LAST-MODIFIED:20230302T151022Z
UID:10000166-1683707400-1683736200@thegoodnewscenter.org
SUMMARY:International Exhibition The Eucharistic Miracles of the World
DESCRIPTION:
URL:https://thegoodnewscenter.org/event/international-exhibition-the-eucharistic-miracles-of-the-world-2023-05-10/2023-05-10/
CATEGORIES:Events,Spiritual Programs
END:VEVENT
BEGIN:VEVENT
DTSTART;TZID=America/New_York:20230509T180000
DTEND;TZID=America/New_York:20230509T193000
DTSTAMP:20260420T073603
CREATED:20230103T152524Z
LAST-MODIFIED:20230103T152524Z
UID:10000065-1683655200-1683660600@thegoodnewscenter.org
SUMMARY:Grief Survivors
DESCRIPTION:
URL:https://thegoodnewscenter.org/event/grief-survivors-2023-05-09/2023-05-09/
CATEGORIES:Events,Relationship Programs
END:VEVENT
END:VCALENDAR