BEGIN:VCALENDAR
VERSION:2.0
PRODID:-//The Good News Center - ECPv6.15.20//NONSGML v1.0//EN
CALSCALE:GREGORIAN
METHOD:PUBLISH
X-ORIGINAL-URL:https://thegoodnewscenter.org
X-WR-CALDESC:Events for The Good News Center
REFRESH-INTERVAL;VALUE=DURATION:PT1H
X-Robots-Tag:noindex
X-PUBLISHED-TTL:PT1H
BEGIN:VTIMEZONE
TZID:America/New_York
BEGIN:DAYLIGHT
TZOFFSETFROM:-0500
TZOFFSETTO:-0400
TZNAME:EDT
DTSTART:20250309T070000
END:DAYLIGHT
BEGIN:STANDARD
TZOFFSETFROM:-0400
TZOFFSETTO:-0500
TZNAME:EST
DTSTART:20251102T060000
END:STANDARD
BEGIN:DAYLIGHT
TZOFFSETFROM:-0500
TZOFFSETTO:-0400
TZNAME:EDT
DTSTART:20260308T070000
END:DAYLIGHT
BEGIN:STANDARD
TZOFFSETFROM:-0400
TZOFFSETTO:-0500
TZNAME:EST
DTSTART:20261101T060000
END:STANDARD
BEGIN:DAYLIGHT
TZOFFSETFROM:-0500
TZOFFSETTO:-0400
TZNAME:EDT
DTSTART:20270314T070000
END:DAYLIGHT
BEGIN:STANDARD
TZOFFSETFROM:-0400
TZOFFSETTO:-0500
TZNAME:EST
DTSTART:20271107T060000
END:STANDARD
END:VTIMEZONE
BEGIN:VEVENT
DTSTART;TZID=America/New_York:20260521T181500
DTEND;TZID=America/New_York:20260521T200000
DTSTAMP:20260421T073111
CREATED:20260417T182639Z
LAST-MODIFIED:20260417T191328Z
UID:10001712-1779387300-1779393600@thegoodnewscenter.org
SUMMARY:Theology Uncorked welcomes Father Jim Cesta
DESCRIPTION:[vc_row][vc_column][vc_column_text css=””]We welcome Father Jim Cesta for our May Theology Uncorked.  Father’s topic for the evening will be “The Treasure of Priests.” \nWith the shortage of priests and the growing number of Catholics\, our priests are to be deeply cherished. And in turn\, the people they serve are their greatest treasure. \nFr. Jim Cesta\, is Pastor of St. Mary of Mt. Carmel/Blessed Sacrament and St. Anthony / St. Agnes Church. Father Jim was ordained to the priesthood in 1974 and has faithfully served in five parishes throughout his ministry. Over the years\, Father Cesta has been deeply involved in liturgical life\, with a particular interest in the design and renovation of church spaces\, helping to create environments that foster prayer and worship. \nReservations are required by May 18\, 2026.[/vc_column_text][/vc_column][/vc_row][vc_row][vc_column]\n	Notice: JavaScript is required for this content.\n\n\n    \n\n\n        \n        \n        \n\n\n\n\n\n\n\n\n\n\n        \n\n        \n\n        [/vc_column][/vc_row]
URL:https://thegoodnewscenter.org/event/theology-uncorked-welcomes-father-jim-cesta/
CATEGORIES:Events,Relationship Programs,Spiritual Programs,Theology Uncorked
ATTACH;FMTTYPE=image/jpeg:https://thegoodnewscenter.org/wp-content/uploads/2025/12/Theology-Uncorked.jpg
END:VEVENT
BEGIN:VEVENT
DTSTART;TZID=America/New_York:20260618T181500
DTEND;TZID=America/New_York:20260618T200000
DTSTAMP:20260421T073111
CREATED:20260417T190755Z
LAST-MODIFIED:20260417T190755Z
UID:10001713-1781806500-1781812800@thegoodnewscenter.org
SUMMARY:Theology Uncorked 10th Anniversary Celebration
DESCRIPTION:[vc_row][vc_column][vc_column_text css=””]For ten years\, Theology Uncorked has brought people together for thoughtful conversation about faith\, life\, and the world around us. These evenings have been shaped in a special way by speakers whose insights\, wisdom\, and willingness to engage have made Theology Uncorked what it is today. \nIt has also been a success because of our Good News friends and family who have supported Theology Uncorked over the past 10 years. \nTo celebrate this milestone\, we are having a special evening which will include a full dinner\, dessert and beverages along with a memento of remembrance. As part of the evening\, we inviting all our past speakers to help celebrate with a brief reflection of a memory from their time with Theology Uncorked. \nBecause we are hosting a full dinner\, the cost is $35 per person. Sorry we can not accept any walks-ins for this special evening. We ask that you please pay in advance by June 11 by either filling out the registration below or calling us at 315-735-6210 during business hours. \n  \n[/vc_column_text][/vc_column][/vc_row][vc_row][vc_column]\n	Notice: JavaScript is required for this content.\n\n\n    \n\n\n        \n        \n        \n\n\n\n\n\n\n\n\n\n\n        \n\n        \n\n        [/vc_column][/vc_row]
URL:https://thegoodnewscenter.org/event/theology-uncorked-10th-anniversary-celebration/
CATEGORIES:Events,Relationship Programs,Spiritual Programs,Theology Uncorked
ATTACH;FMTTYPE=image/jpeg:https://thegoodnewscenter.org/wp-content/uploads/2026/04/Theology-Uncorked-10th-scaled.jpg
END:VEVENT
END:VCALENDAR